BEGIN:VCALENDAR
VERSION:2.0
PRODID:-//ChamberMaster//Event Calendar 2.0//EN
METHOD:PUBLISH
X-PUBLISHED-TTL:P3D
REFRESH-INTERVAL:P3D
CALSCALE:GREGORIAN
BEGIN:VEVENT
DTSTART:20260528T170000Z
DTEND:20260528T180000Z
X-MICROSOFT-CDO-ALLDAYEVENT:FALSE
SUMMARY:FREE NARCAN TRAINING
DESCRIPTION:FREE NARCAN\n\nTRAINING\n\n\n\nTRAINING INCLUDES:\n\n\n\nOpioid overdose and local data\n\nRecognizing an overdose\n\nResponding to an overdose\n\nThings to know about Narcan\n\nFentanyl and xylazine\n\nGood Sam law and overdose prevention\n\n\n\nOPEN TO ALL\n\nMUST BE 18+
X-ALT-DESC;FMTTYPE=text/html:FREE NARCAN<br />\nTRAINING<br />\n<br />\nTRAINING INCLUDES:<br />\n<br />\nOpioid overdose and local data<br />\nRecognizing an overdose<br />\nResponding to an overdose<br />\nThings to know about Narcan<br />\nFentanyl and xylazine<br />\nGood Sam law and overdose prevention<br />\n<br />\nOPEN TO ALL<br />\nMUST BE 18+
LOCATION:FAYETTEVILLE BEYOND BLUE NEIGHBORHOOD CENTER
UID:e.1253.50396
SEQUENCE:3
DTSTAMP:20260423T171854Z
URL:https://business.faybiz.com/events/details/free-narcan-training-50396
END:VEVENT

END:VCALENDAR
